BEGIN:VCALENDAR
VERSION:2.0
PRODID:-//Brew NH - ECPv5.16.3.1//NONSGML v1.0//EN
CALSCALE:GREGORIAN
METHOD:PUBLISH
X-WR-CALNAME:Brew NH
X-ORIGINAL-URL:https://nhbeer.org
X-WR-CALDESC:Events for Brew NH
BEGIN:VTIMEZONE
TZID:UTC
BEGIN:STANDARD
TZOFFSETFROM:+0000
TZOFFSETTO:+0000
TZNAME:UTC
DTSTART:20170101T000000
END:STANDARD
END:VTIMEZONE
BEGIN:VEVENT
DTSTART;TZID=UTC:20170401T183000
DTEND;TZID=UTC:20170401T223000
DTSTAMP:20260422T091124
CREATED:20170215T205800Z
LAST-MODIFIED:20170401T202027Z
UID:1195-1491071400-1491085800@nhbeer.org
SUMMARY:Dreams Heard Brew Ha Ha SOLD OUT
DESCRIPTION:The 6th Annual Dreams Heard Comedy Brew Ha-Ha is April 1\, 2017 at Martha’s Exchange Restaurant & Brewery in Nashua starting at 6:30pm. \nCome join us in this very unique combination of a Beer/Wine Tasting and a Comedy Show. \nComedians are Al Park\, Mark Riley and Jesse Bickford.\nThe Granite State Growler Tours Brew Crew has a bit of old and new brewers this year. Pipe Dream Brewing\, Third Colony Brewery & Winery\, Rockingham Brewing Company\, Newburyport Brewing Co.\, and Martha’s Exchange are all on board for some sampling.\nDon’t forget the Craft Beer Cellar Nashua Beer Grab! Plus our awesome raffle/auction from great donors like Mohegan Sun\, Michael Jordans Steak House @ Mohegan Sun\, SNHU Arena\, and Waterfront Concerts! \nTables of 10 for $250\, Tables of 8 for $200\, and Individual Tickets $30.\nSold Out last 2 years!!! Message Us ASAP for Tables!!! \n\n#NHCBW2017 #NHBeer #NHBrewers #NHBeerTrail
URL:https://nhbeer.org/event/dreams-heard-brew-ha-ha/
LOCATION:Martha’s Exchange Brewery\, 185 Main Street\, Nashua\, NH\, 03060\, United States
CATEGORIES:Comedy,NHCBW
ATTACH;FMTTYPE=image/png:https://nhbeer.org/wp-content/uploads/2017/02/1463054_634403593278849_1728113353_n.png
END:VEVENT
END:VCALENDAR