BEGIN:VCALENDAR
VERSION:2.0
PRODID:-//Brew NH - ECPv5.16.3.1//NONSGML v1.0//EN
CALSCALE:GREGORIAN
METHOD:PUBLISH
X-WR-CALNAME:Brew NH
X-ORIGINAL-URL:https://nhbeer.org
X-WR-CALDESC:Events for Brew NH
BEGIN:VTIMEZONE
TZID:UTC
BEGIN:STANDARD
TZOFFSETFROM:+0000
TZOFFSETTO:+0000
TZNAME:UTC
DTSTART:20170101T000000
END:STANDARD
END:VTIMEZONE
BEGIN:VEVENT
DTSTART;TZID=UTC:20170401T130000
DTEND;TZID=UTC:20170401T200000
DTSTAMP:20260419T121730
CREATED:20170322T211745Z
LAST-MODIFIED:20170401T201653Z
UID:1480-1491051600-1491076800@nhbeer.org
SUMMARY:Guest Chef Day at Lone Wolfe
DESCRIPTION:Come in and kick off NH craft beer week at the Lone Wolfe. We have invited local chef Ryan Devolve to create a special menu for you all. He will be cooking up a variety of exquisite finger foods and more! ( we promise this is no joke! ) \n#NHCBW2017 #NHBeer #NHBrewers #NHBeerTrail \n 
URL:https://nhbeer.org/event/guest-chef-day-lone-wolfe/
LOCATION:The Lone Wolfe Brewing Co.\, 39 N Main St\, Wolfeboro\, NH\, 03894\, United States
CATEGORIES:Beer Dinner or Pairing,NHCBW
ATTACH;FMTTYPE=image/jpeg:https://nhbeer.org/wp-content/uploads/2017/03/17390591_810124982474284_8455283384164693778_o.jpg
END:VEVENT
END:VCALENDAR